BEGIN:VCALENDAR
VERSION:2.0
PRODID:-//wp-events-plugin.com//7.2.3.1//EN
TZID:America/Danmarkshavn
X-WR-TIMEZONE:America/Danmarkshavn
BEGIN:VEVENT
UID:19@laerkegaard.com
DTSTART;TZID=America/Danmarkshavn:20241122T170000
DTEND;TZID=America/Danmarkshavn:20241122T235900
DTSTAMP:20241022T214233Z
URL:https://laerkegaard.com/events/julefrokost-aften-med-laekker-julebuffe
 t-22-november-2024
SUMMARY:Julefrokost aften med lækker julebuffet på Lærkegård 22. novemb
 er 2024 - Kl. 17:00
DESCRIPTION:Kom til julefrokost på Lærkegård\, vi byder disse 2 aftener 
 (d 22/11 &amp\; 6/12) på lækker julebuffet i vores hyggelige julepyntede
  cafe.\nTag venner\, familie eller dine kolleger med til en hyggelig og sj
 ov aften med lækker mad og drikke.\nDer kan købes øl/juleøl\, vin\, so
 davand og kaffe/te og vi står klar til at skabe en god aften med julestem
 ning for jer.\nBilletter købes på vores hjemmeside eller direkte i cafee
 n\, hvis du køber billetter samlet\, sætter vi jer ved samme bord\, elle
 rs giv besked om hvem du vil sidde sammen med.\nMenu:Hvide sild med æble\
 , rødløg &amp\; hjemmelavet sennepsdressingGravad laks med rævesovs &am
 p\; frisk dildLune fiskefileter med remouladeGrønlangkål med juleskinkeA
 nderilette med æble\, appelsin &amp\; sveskerTartelet med høns i asparge
 sFlæskesteg med sprød svær &amp\; hjemmelavet varm rødkålBrunede kart
 ofler &amp\; Lærkegårds julesauceSprød jule kålsalat med appelsin\, gr
 æskarkerner &amp\; balsamicoUdvalgte oste med garniture &amp\; honningnø
 dderRis a la mande med amaretto kirsebær sauceØko hjemmebagt brød\, rug
 brød &amp\; smør/fedt\nPris pr person ekskl drikkevarer 499 kr - Køb bi
 llet her\nEventet aflyses hvis der er mindre end 25 tilmeldte
LOCATION:Lærkegård\, Markebækvej 2\, Skævinge\, Danmark\, 3320\, Denmar
 k
X-APPLE-STRUCTURED-LOCATION;VALUE=URI;X-ADDRESS=Markebækvej 2\, Skævinge\
 , Danmark\, 3320\, Denmark;X-APPLE-RADIUS=100;X-TITLE=Lærkegård:geo:0,0
END:VEVENT
BEGIN:VTIMEZONE
TZID:America/Danmarkshavn
X-LIC-LOCATION:America/Danmarkshavn
BEGIN:STANDARD
DTSTART:20231123T170000
TZOFFSETFROM:+0000
TZOFFSETTO:+0000
TZNAME:GMT
END:STANDARD
END:VTIMEZONE
END:VCALENDAR